BEGIN:VCALENDAR
VERSION:2.0
PRODID:-//NPC USA Nevada - ECPv6.15.20//NONSGML v1.0//EN
CALSCALE:GREGORIAN
METHOD:PUBLISH
X-ORIGINAL-URL:https://npcusanevada.com
X-WR-CALDESC:Events for NPC USA Nevada
REFRESH-INTERVAL;VALUE=DURATION:PT1H
X-Robots-Tag:noindex
X-PUBLISHED-TTL:PT1H
BEGIN:VTIMEZONE
TZID:America/Los_Angeles
BEGIN:DAYLIGHT
TZOFFSETFROM:-0800
TZOFFSETTO:-0700
TZNAME:PDT
DTSTART:20200308T100000
END:DAYLIGHT
BEGIN:STANDARD
TZOFFSETFROM:-0700
TZOFFSETTO:-0800
TZNAME:PST
DTSTART:20201101T090000
END:STANDARD
BEGIN:DAYLIGHT
TZOFFSETFROM:-0800
TZOFFSETTO:-0700
TZNAME:PDT
DTSTART:20210314T100000
END:DAYLIGHT
BEGIN:STANDARD
TZOFFSETFROM:-0700
TZOFFSETTO:-0800
TZNAME:PST
DTSTART:20211107T090000
END:STANDARD
BEGIN:DAYLIGHT
TZOFFSETFROM:-0800
TZOFFSETTO:-0700
TZNAME:PDT
DTSTART:20220313T100000
END:DAYLIGHT
BEGIN:STANDARD
TZOFFSETFROM:-0700
TZOFFSETTO:-0800
TZNAME:PST
DTSTART:20221106T090000
END:STANDARD
BEGIN:DAYLIGHT
TZOFFSETFROM:-0800
TZOFFSETTO:-0700
TZNAME:PDT
DTSTART:20230312T100000
END:DAYLIGHT
BEGIN:STANDARD
TZOFFSETFROM:-0700
TZOFFSETTO:-0800
TZNAME:PST
DTSTART:20231105T090000
END:STANDARD
BEGIN:DAYLIGHT
TZOFFSETFROM:-0800
TZOFFSETTO:-0700
TZNAME:PDT
DTSTART:20240310T100000
END:DAYLIGHT
BEGIN:STANDARD
TZOFFSETFROM:-0700
TZOFFSETTO:-0800
TZNAME:PST
DTSTART:20241103T090000
END:STANDARD
END:VTIMEZONE
BEGIN:VEVENT
DTSTART;VALUE=DATE:20230218
DTEND;VALUE=DATE:20230219
DTSTAMP:20260423T105913
CREATED:20230131T004304Z
LAST-MODIFIED:20230131T004304Z
UID:1003-1676678400-1676764799@npcusanevada.com
SUMMARY:2023 IFBB Pro League/NPC Legends Classic
DESCRIPTION:
URL:https://npcusanevada.com/event/2023-ifbb-pro-league-npc-legends-classic/
LOCATION:Alexis Park All Suite Resort\, 375E E Harmon Ave\, Las Vegas\, NV\, 96169
CATEGORIES:IFBB Pro League,National Qualifiers,NPC
ORGANIZER;CN="MuscleContest":MAILTO:Tracey@musclecontest.com
END:VEVENT
BEGIN:VEVENT
DTSTART;VALUE=DATE:20221105
DTEND;VALUE=DATE:20221106
DTSTAMP:20260423T105913
CREATED:20211227T171555Z
LAST-MODIFIED:20211227T171555Z
UID:926-1667606400-1667692799@npcusanevada.com
SUMMARY:2022 NPC Las Vegas Classic
DESCRIPTION:
URL:https://npcusanevada.com/event/2022-npc-las-vegas-classic/
LOCATION:Alexis Park All Suite Resort\, 375E E Harmon Ave\, Las Vegas\, NV\, 96169
CATEGORIES:National Qualifiers,NPC
ORGANIZER;CN="Austin Karr":MAILTO:steveknpcvegas@yahoo.com
END:VEVENT
BEGIN:VEVENT
DTSTART;VALUE=DATE:20221007
DTEND;VALUE=DATE:20221010
DTSTAMP:20260423T105913
CREATED:20211227T171252Z
LAST-MODIFIED:20220125T214452Z
UID:924-1665100800-1665359999@npcusanevada.com
SUMMARY:2022 NPC/IFBB Pro League Legion Sports Fest
DESCRIPTION:
URL:https://npcusanevada.com/event/2022-npc-ifbb-pro-league-legion-sports-fest/
LOCATION:Reno-Sparks Convention Center\, 4590 S Virginia St\, Reno\, NV\, 89502\, United States
CATEGORIES:IFBB Pro League,National Qualifiers,NPC
ATTACH;FMTTYPE=image/jpeg:https://npcusanevada.com/wp-content/uploads/2021/12/2022-Center-Podium-Show-Schedule.jpg
ORGANIZER;CN="Center Podium":MAILTO:events@centerpodium.com
END:VEVENT
BEGIN:VEVENT
DTSTART;VALUE=DATE:20221001
DTEND;VALUE=DATE:20221002
DTSTAMP:20260423T105913
CREATED:20211227T170950Z
LAST-MODIFIED:20220908T190325Z
UID:921-1664582400-1664668799@npcusanevada.com
SUMMARY:2022 NPC/IFBB Pro League Nevada State Championships
DESCRIPTION:
URL:https://npcusanevada.com/event/2022-npc-ifbb-pro-league-nevada-state-championships/
LOCATION:Alexis Park All Suite Resort\, 375E E Harmon Ave\, Las Vegas\, NV\, 96169
CATEGORIES:IFBB Pro League,National Qualifiers,NPC
ATTACH;FMTTYPE=image/jpeg:https://npcusanevada.com/wp-content/uploads/2021/12/2022-NPC-NEVADA-STATE-CHAMPIONSHIPS-POSTER-1000.jpg
ORGANIZER;CN="Spectrum Fitness Productions":MAILTO:info@spectrumfitnessproductions.com
END:VEVENT
BEGIN:VEVENT
DTSTART;VALUE=DATE:20220924
DTEND;VALUE=DATE:20220925
DTSTAMP:20260423T105913
CREATED:20211227T170815Z
LAST-MODIFIED:20220510T153733Z
UID:919-1663977600-1664063999@npcusanevada.com
SUMMARY:2022 NPC Ace Of Stage
DESCRIPTION:
URL:https://npcusanevada.com/event/2022-npc-ace-of-stage/
LOCATION:Nicholas J Horne Performing Arts Theater\, 3200 E Cheyenne Ave\, North Las Vegas\, 89030\, United States
CATEGORIES:National Qualifiers,NPC
ATTACH;FMTTYPE=image/jpeg:https://npcusanevada.com/wp-content/uploads/2021/12/2022-NPC-Ace-Of-Stage-Championships.jpg
ORGANIZER;CN="Sampson Productions":MAILTO:patrick@sampsonproductions.com
END:VEVENT
BEGIN:VEVENT
DTSTART;VALUE=DATE:20220827
DTEND;VALUE=DATE:20220828
DTSTAMP:20260423T105913
CREATED:20211227T170634Z
LAST-MODIFIED:20220801T160242Z
UID:915-1661558400-1661644799@npcusanevada.com
SUMMARY:2022 NPC/IFBB Pro League Sin City
DESCRIPTION:
URL:https://npcusanevada.com/event/2022-npc-ifbb-pro-league-sin-city/
LOCATION:Alexis Park All Suite Resort\, 375E E Harmon Ave\, Las Vegas\, NV\, 96169
CATEGORIES:IFBB Pro League,National Qualifiers,NPC
ATTACH;FMTTYPE=image/jpeg:https://npcusanevada.com/wp-content/uploads/2021/12/2022-NPC-SIN-CITY-SHOWDOWN-POSTER2.jpg
ORGANIZER;CN="MuscleContest":MAILTO:Tracey@musclecontest.com
END:VEVENT
BEGIN:VEVENT
DTSTART;VALUE=DATE:20220813
DTEND;VALUE=DATE:20220815
DTSTAMP:20260423T105913
CREATED:20211227T170522Z
LAST-MODIFIED:20220720T144535Z
UID:912-1660348800-1660521599@npcusanevada.com
SUMMARY:2022 NPC/IFBB Pro League Tahoe Show
DESCRIPTION:
URL:https://npcusanevada.com/event/2022-npc-ifbb-pro-league-tahoe-show/
LOCATION:Bally’s Lake Tahoe Casino Resort\, 55 US-50\, Stateline\, NV\, 89449
CATEGORIES:IFBB Pro League,National Qualifiers,NPC
ATTACH;FMTTYPE=image/jpeg:https://npcusanevada.com/wp-content/uploads/2021/12/2022-NPC-Tahoe-Show.jpg
ORGANIZER;CN="Center Podium":MAILTO:events@centerpodium.com
END:VEVENT
BEGIN:VEVENT
DTSTART;VALUE=DATE:20220618
DTEND;VALUE=DATE:20220619
DTSTAMP:20260423T105913
CREATED:20211227T165945Z
LAST-MODIFIED:20220316T205810Z
UID:907-1655510400-1655596799@npcusanevada.com
SUMMARY:2022 NPC/IFBB Pro League Patriots Challenge
DESCRIPTION:
URL:https://npcusanevada.com/event/2022-npc-ifbb-pro-league-patriots-challenge/
LOCATION:Alexis Park All Suite Resort\, 375E E Harmon Ave\, Las Vegas\, NV\, 96169
CATEGORIES:IFBB Pro League,National Qualifiers,NPC
ORGANIZER;CN="MuscleContest":MAILTO:Tracey@musclecontest.com
END:VEVENT
BEGIN:VEVENT
DTSTART;VALUE=DATE:20220507
DTEND;VALUE=DATE:20220508
DTSTAMP:20260423T105913
CREATED:20211227T165451Z
LAST-MODIFIED:20220125T214401Z
UID:904-1651881600-1651967999@npcusanevada.com
SUMMARY:2022 NPC Mother Lode
DESCRIPTION:
URL:https://npcusanevada.com/event/2022-npc-mother-lode/
LOCATION:NV
CATEGORIES:National Qualifiers,NPC
ATTACH;FMTTYPE=image/jpeg:https://npcusanevada.com/wp-content/uploads/2021/12/2022-Center-Podium-Show-Schedule.jpg
ORGANIZER;CN="Center Podium":MAILTO:events@centerpodium.com
END:VEVENT
BEGIN:VEVENT
DTSTART;VALUE=DATE:20220409
DTEND;VALUE=DATE:20220410
DTSTAMP:20260423T105913
CREATED:20211227T162128Z
LAST-MODIFIED:20211227T162620Z
UID:892-1649462400-1649548799@npcusanevada.com
SUMMARY:2022 NPC Jay Cutler Desert Classic
DESCRIPTION:
URL:https://npcusanevada.com/event/2022-npc-jay-cutler-desert-classic/
LOCATION:South Pointe Casino & Hotel\, 9777 Las Vegas Blvd South\, Las Vegas\, 89183\, United States
CATEGORIES:National Qualifiers,NPC
ATTACH;FMTTYPE=image/jpeg:https://npcusanevada.com/wp-content/uploads/2021/12/2022-NPC-Jay-Cutler-Desert-Classic.jpg
ORGANIZER;CN="Dana Ross":MAILTO:JerusPro1@hotmail.com
END:VEVENT
BEGIN:VEVENT
DTSTART;VALUE=DATE:20220326
DTEND;VALUE=DATE:20220327
DTSTAMP:20260423T105913
CREATED:20211227T161618Z
LAST-MODIFIED:20211227T161825Z
UID:887-1648252800-1648339199@npcusanevada.com
SUMMARY:2022 NPC Sampson Showdown
DESCRIPTION:
URL:https://npcusanevada.com/event/2022-npc-sampson-showdown/
LOCATION:Nicholas J Horne Performing Arts Theater\, 3200 E Cheyenne Ave\, North Las Vegas\, 89030\, United States
CATEGORIES:National Qualifiers,NPC
ATTACH;FMTTYPE=image/jpeg:https://npcusanevada.com/wp-content/uploads/2021/12/2022-NPC-Sampson-Showdown.jpg
ORGANIZER;CN="Sampson Productions":MAILTO:patrick@sampsonproductions.com
END:VEVENT
BEGIN:VEVENT
DTSTART;VALUE=DATE:20220205
DTEND;VALUE=DATE:20220206
DTSTAMP:20260423T105913
CREATED:20211227T165150Z
LAST-MODIFIED:20220125T161728Z
UID:901-1644019200-1644105599@npcusanevada.com
SUMMARY:2022 NPC/IFBB Pro League Legends Classic
DESCRIPTION:
URL:https://npcusanevada.com/event/2022-npc-ifbb-pro-legends-classic/
LOCATION:Alexis Park All Suite Resort\, 375E E Harmon Ave\, Las Vegas\, NV\, 96169
CATEGORIES:IFBB Pro League,National Qualifiers,NPC
ATTACH;FMTTYPE=image/jpeg:https://npcusanevada.com/wp-content/uploads/2021/12/2022-NPC-Legends-Classic.jpg
ORGANIZER;CN="MuscleContest":MAILTO:Tracey@musclecontest.com
END:VEVENT
BEGIN:VEVENT
DTSTART;VALUE=DATE:20211105
DTEND;VALUE=DATE:20211107
DTSTAMP:20260423T105913
CREATED:20210119T213653Z
LAST-MODIFIED:20210119T213653Z
UID:634-1636149600-1636235999@npcusanevada.com
SUMMARY:2021 NPC Las Vegas Classic
DESCRIPTION:
URL:https://npcusanevada.com/event/2021-npc-las-vegas-classic/
LOCATION:NV
CATEGORIES:National Qualifiers,NPC
ORGANIZER;CN="Austin Karr":MAILTO:steveknpcvegas@yahoo.com
END:VEVENT
BEGIN:VEVENT
DTSTART;VALUE=DATE:20211021
DTEND;VALUE=DATE:20211025
DTSTAMP:20260423T105913
CREATED:20210119T213149Z
LAST-MODIFIED:20210119T213149Z
UID:631-1634853600-1635112799@npcusanevada.com
SUMMARY:2021 IFBB/NPC Legion Sports Fest
DESCRIPTION:
URL:https://npcusanevada.com/event/2021-ifbb-npc-legion-sports-fest/
LOCATION:Reno-Sparks Convention Center\, 4590 S Virginia St\, Reno\, NV\, 89502\, United States
CATEGORIES:IFBB Pro League,National Qualifiers,NPC
ORGANIZER;CN="Center Podium":MAILTO:events@centerpodium.com
END:VEVENT
BEGIN:VEVENT
DTSTART;VALUE=DATE:20211008
DTEND;VALUE=DATE:20211010
DTSTAMP:20260423T105913
CREATED:20210119T212433Z
LAST-MODIFIED:20210321T215844Z
UID:628-1633730400-1633816799@npcusanevada.com
SUMMARY:2021 NPC Nevada State
DESCRIPTION:
URL:https://npcusanevada.com/event/2021-npc-nevada-state/
LOCATION:Silver Legacy\, 407 N Virginia St\, Reno\, NV
CATEGORIES:National Qualifiers,NPC
ATTACH;FMTTYPE=image/jpeg:https://npcusanevada.com/wp-content/uploads/2021/01/2021-NPC-Nevada-State-Championships.jpg
ORGANIZER;CN="Randy & Julie Green":MAILTO:nvbodybuilding@att.net
END:VEVENT
BEGIN:VEVENT
DTSTART;VALUE=DATE:20210923
DTEND;VALUE=DATE:20210926
DTSTAMP:20260423T105913
CREATED:20210119T211919Z
LAST-MODIFIED:20210119T211919Z
UID:626-1632434400-1632607199@npcusanevada.com
SUMMARY:2021 NPC Ace of Stage
DESCRIPTION:
URL:https://npcusanevada.com/event/2021-npc-ace-of-stage/
LOCATION:NV
CATEGORIES:National Qualifiers,NPC
ORGANIZER;CN="Sampson Productions":MAILTO:patrick@sampsonproductions.com
END:VEVENT
BEGIN:VEVENT
DTSTART;VALUE=DATE:20210820
DTEND;VALUE=DATE:20210822
DTSTAMP:20260423T105913
CREATED:20210119T211618Z
LAST-MODIFIED:20210119T211618Z
UID:624-1629496800-1629583199@npcusanevada.com
SUMMARY:2021 NPC Sin City
DESCRIPTION:
URL:https://npcusanevada.com/event/2021-npc-sin-city/
LOCATION:NV
CATEGORIES:National Qualifiers,NPC
ORGANIZER;CN="MuscleContest":MAILTO:Tracey@musclecontest.com
END:VEVENT
BEGIN:VEVENT
DTSTART;VALUE=DATE:20210813
DTEND;VALUE=DATE:20210816
DTSTAMP:20260423T105913
CREATED:20210119T211338Z
LAST-MODIFIED:20210119T211338Z
UID:622-1628892000-1629064799@npcusanevada.com
SUMMARY:2021 IFBB/NPC Tahoe Show
DESCRIPTION:
URL:https://npcusanevada.com/event/2021-ifbb-npc-tahoe-show/
LOCATION:NV
CATEGORIES:IFBB Pro League,National Qualifiers,NPC
ORGANIZER;CN="Center Podium":MAILTO:events@centerpodium.com
END:VEVENT
BEGIN:VEVENT
DTSTART;VALUE=DATE:20210709
DTEND;VALUE=DATE:20210711
DTSTAMP:20260423T105913
CREATED:20210428T231252Z
LAST-MODIFIED:20210428T231252Z
UID:699-1625868000-1625954399@npcusanevada.com
SUMMARY:2021 NPC Patriots Challenge
DESCRIPTION:
URL:https://npcusanevada.com/event/2021-npc-patriots-challenge/
LOCATION:Alexis Park All Suite Resort\, 375E E Harmon Ave\, Las Vegas\, NV\, 96169
CATEGORIES:National Qualifiers,NPC
ATTACH;FMTTYPE=image/jpeg:https://npcusanevada.com/wp-content/uploads/2021/04/2021-NPC-PATRIOTS-CHALLENGE-POSTER.jpg
ORGANIZER;CN="MuscleContest":MAILTO:Tracey@musclecontest.com
END:VEVENT
BEGIN:VEVENT
DTSTART;VALUE=DATE:20210514
DTEND;VALUE=DATE:20210516
DTSTAMP:20260423T105913
CREATED:20210119T210641Z
LAST-MODIFIED:20210517T180758Z
UID:616-1621029600-1621115999@npcusanevada.com
SUMMARY:2021 NPC Mother Lode
DESCRIPTION:
URL:https://npcusanevada.com/event/2021-npc-mother-lode/
LOCATION:Grand Sierra Resort\, 2500 E 2nd St\, Reno\, NV\, 89595\, United States
CATEGORIES:National Qualifiers,NPC
ORGANIZER;CN="Center Podium":MAILTO:events@centerpodium.com
END:VEVENT
BEGIN:VEVENT
DTSTART;VALUE=DATE:20210402
DTEND;VALUE=DATE:20210404
DTSTAMP:20260423T105913
CREATED:20210119T205606Z
LAST-MODIFIED:20210119T205606Z
UID:608-1617400800-1617487199@npcusanevada.com
SUMMARY:2021 NPC/IFBB Jay Cutler Desert Classic
DESCRIPTION:
URL:https://npcusanevada.com/event/2021-npc-ifbb-jay-cutler-desert-classic/
LOCATION:South Pointe Casino & Hotel\, 9777 Las Vegas Blvd South\, Las Vegas\, 89183\, United States
CATEGORIES:IFBB Pro League,National Qualifiers,NPC
ATTACH;FMTTYPE=image/jpeg:https://npcusanevada.com/wp-content/uploads/2021/01/2021-NPC-Jay-Cutler-Desert-Classic.jpg
ORGANIZER;CN="Dana Ross":MAILTO:JerusPro1@hotmail.com
END:VEVENT
BEGIN:VEVENT
DTSTART;VALUE=DATE:20210319
DTEND;VALUE=DATE:20210321
DTSTAMP:20260423T105913
CREATED:20210119T204748Z
LAST-MODIFIED:20210126T174955Z
UID:604-1616191200-1616277599@npcusanevada.com
SUMMARY:2021 NPC Sampson Showdown
DESCRIPTION:
URL:https://npcusanevada.com/event/2021-npc-sampson-showdown/
LOCATION:JW Marriott Resort\, 221 N Rampart Blvd\, Las Vegas\, NV\, 89145
CATEGORIES:National Qualifiers,NPC
ATTACH;FMTTYPE=image/jpeg:https://npcusanevada.com/wp-content/uploads/2021/01/2021-NPC-Sampson-Showdown.jpg
ORGANIZER;CN="Sampson Productions":MAILTO:patrick@sampsonproductions.com
END:VEVENT
END:VCALENDAR