BEGIN:VCALENDAR
VERSION:2.0
PRODID:-//NPC USA Nevada - ECPv6.15.20//NONSGML v1.0//EN
CALSCALE:GREGORIAN
METHOD:PUBLISH
X-WR-CALNAME:NPC USA Nevada
X-ORIGINAL-URL:https://npcusanevada.com
X-WR-CALDESC:Events for NPC USA Nevada
REFRESH-INTERVAL;VALUE=DURATION:PT1H
X-Robots-Tag:noindex
X-PUBLISHED-TTL:PT1H
BEGIN:VTIMEZONE
TZID:America/Los_Angeles
BEGIN:DAYLIGHT
TZOFFSETFROM:-0800
TZOFFSETTO:-0700
TZNAME:PDT
DTSTART:20230312T100000
END:DAYLIGHT
BEGIN:STANDARD
TZOFFSETFROM:-0700
TZOFFSETTO:-0800
TZNAME:PST
DTSTART:20231105T090000
END:STANDARD
BEGIN:DAYLIGHT
TZOFFSETFROM:-0800
TZOFFSETTO:-0700
TZNAME:PDT
DTSTART:20240310T100000
END:DAYLIGHT
BEGIN:STANDARD
TZOFFSETFROM:-0700
TZOFFSETTO:-0800
TZNAME:PST
DTSTART:20241103T090000
END:STANDARD
BEGIN:DAYLIGHT
TZOFFSETFROM:-0800
TZOFFSETTO:-0700
TZNAME:PDT
DTSTART:20250309T100000
END:DAYLIGHT
BEGIN:STANDARD
TZOFFSETFROM:-0700
TZOFFSETTO:-0800
TZNAME:PST
DTSTART:20251102T090000
END:STANDARD
BEGIN:DAYLIGHT
TZOFFSETFROM:-0800
TZOFFSETTO:-0700
TZNAME:PDT
DTSTART:20260308T100000
END:DAYLIGHT
BEGIN:STANDARD
TZOFFSETFROM:-0700
TZOFFSETTO:-0800
TZNAME:PST
DTSTART:20261101T090000
END:STANDARD
BEGIN:DAYLIGHT
TZOFFSETFROM:-0800
TZOFFSETTO:-0700
TZNAME:PDT
DTSTART:20270314T100000
END:DAYLIGHT
BEGIN:STANDARD
TZOFFSETFROM:-0700
TZOFFSETTO:-0800
TZNAME:PST
DTSTART:20271107T090000
END:STANDARD
END:VTIMEZONE
BEGIN:VEVENT
DTSTART;VALUE=DATE:20260404
DTEND;VALUE=DATE:20260405
DTSTAMP:20260423T080258
CREATED:20260105T180534Z
LAST-MODIFIED:20260207T042438Z
UID:1316-1775260800-1775347199@npcusanevada.com
SUMMARY:2026 NPC Jay Cutler Desert Classic
DESCRIPTION:
URL:https://npcusanevada.com/event/2026-npc-jay-cutler-desert-classic/
LOCATION:South Pointe Casino & Hotel\, 9777 Las Vegas Blvd South\, Las Vegas\, 89183\, United States
CATEGORIES:National Qualifiers,NPC
ATTACH;FMTTYPE=image/webp:https://npcusanevada.com/wp-content/uploads/2026/01/2026-NPC-Jay-Cutler-Desert-Classic.webp
ORGANIZER;CN="Remi Bruyninga":MAILTO:elitefitcenter123@yahoo.com
END:VEVENT
BEGIN:VEVENT
DTSTART;VALUE=DATE:20260328
DTEND;VALUE=DATE:20260329
DTSTAMP:20260423T080258
CREATED:20260105T180304Z
LAST-MODIFIED:20260309T222702Z
UID:1314-1774656000-1774742399@npcusanevada.com
SUMMARY:2026 NPC/IFBB Pro League Sampson Showdown
DESCRIPTION:
URL:https://npcusanevada.com/event/2026-npc-ifbb-pro-league-sampson-showdown/
LOCATION:Campus of College of Southern Nevada-Las Vegas\, 3200 E Cheyenne Ave\, North Las Vegas\, NV\, 89030
CATEGORIES:IFBB Pro League,National Qualifiers,NPC
ATTACH;FMTTYPE=image/webp:https://npcusanevada.com/wp-content/uploads/2026/01/2026-NPC-IFBB-Sampson-Showdown.webp
ORGANIZER;CN="Sampson Productions":MAILTO:patrick@sampsonproductions.com
END:VEVENT
BEGIN:VEVENT
DTSTART;VALUE=DATE:20260214
DTEND;VALUE=DATE:20260215
DTSTAMP:20260423T080258
CREATED:20260105T180053Z
LAST-MODIFIED:20260105T182709Z
UID:1312-1771027200-1771113599@npcusanevada.com
SUMMARY:2026 NPC Legends Classic
DESCRIPTION:
URL:https://npcusanevada.com/event/2026-npc-legends-classic/
LOCATION:Alexis Park All Suite Resort\, 375E E Harmon Ave\, Las Vegas\, NV\, 96169
CATEGORIES:National Qualifiers,NPC
ATTACH;FMTTYPE=image/webp:https://npcusanevada.com/wp-content/uploads/2026/01/2026-NPC-LEGENDS-CLASSIC-POSTER.webp
ORGANIZER;CN="MuscleContest":MAILTO:Tracey@musclecontest.com
END:VEVENT
BEGIN:VEVENT
DTSTART;VALUE=DATE:20251121
DTEND;VALUE=DATE:20251123
DTSTAMP:20260423T080258
CREATED:20250313T181237Z
LAST-MODIFIED:20250617T164959Z
UID:1230-1763683200-1763855999@npcusanevada.com
SUMMARY:2025 NPC Masters USA
DESCRIPTION:
URL:https://npcusanevada.com/event/2025-npc-masters-usa/
LOCATION:South Pointe Casino & Hotel\, 9777 Las Vegas Blvd South\, Las Vegas\, 89183\, United States
CATEGORIES:NPC
ATTACH;FMTTYPE=image/webp:https://npcusanevada.com/wp-content/uploads/2025/03/2025-NPC-MASTERS-USA-POSTER-1000.webp
ORGANIZER;CN="MuscleContest":MAILTO:Tracey@musclecontest.com
END:VEVENT
BEGIN:VEVENT
DTSTART;VALUE=DATE:20251115
DTEND;VALUE=DATE:20251116
DTSTAMP:20260423T080258
CREATED:20250313T180928Z
LAST-MODIFIED:20250617T164431Z
UID:1228-1763164800-1763251199@npcusanevada.com
SUMMARY:2025 NPC High Roller Royale
DESCRIPTION:
URL:https://npcusanevada.com/event/2025-npc-high-roller-royale/
LOCATION:Alexis Park All Suite Resort\, 375E E Harmon Ave\, Las Vegas\, NV\, 96169
CATEGORIES:National Qualifiers,NPC
ATTACH;FMTTYPE=image/webp:https://npcusanevada.com/wp-content/uploads/2025/03/2025-NPC-High-Roller-Royale.webp
END:VEVENT
BEGIN:VEVENT
DTSTART;VALUE=DATE:20251108
DTEND;VALUE=DATE:20251109
DTSTAMP:20260423T080258
CREATED:20250603T232855Z
LAST-MODIFIED:20250603T232855Z
UID:1271-1762560000-1762646399@npcusanevada.com
SUMMARY:IFBB Pro Steve Karr Las Vegas Classic
DESCRIPTION:
URL:https://npcusanevada.com/event/ifbb-pro-steve-karr-las-vegas-classic/
LOCATION:Alexis Park All Suite Resort\, 375E E Harmon Ave\, Las Vegas\, NV\, 96169
CATEGORIES:IFBB Pro League
ATTACH;FMTTYPE=image/webp:https://npcusanevada.com/wp-content/uploads/2025/06/2025-IFBB-SKLVC-Poster.webp
ORGANIZER;CN="Austin Karr":MAILTO:steveknpcvegas@yahoo.com
END:VEVENT
BEGIN:VEVENT
DTSTART;VALUE=DATE:20251108
DTEND;VALUE=DATE:20251109
DTSTAMP:20260423T080258
CREATED:20250313T180848Z
LAST-MODIFIED:20250603T232853Z
UID:1226-1762560000-1762646399@npcusanevada.com
SUMMARY:NPC Steve Karr Las Vegas Classic
DESCRIPTION:
URL:https://npcusanevada.com/event/npc-steve-karr-las-vegas-classic/
LOCATION:Alexis Park All Suite Resort\, 375E E Harmon Ave\, Las Vegas\, NV\, 96169
CATEGORIES:National Qualifiers,NPC
ATTACH;FMTTYPE=image/webp:https://npcusanevada.com/wp-content/uploads/2025/03/2025-NPC-SKLVC-Poster.webp
ORGANIZER;CN="Austin Karr":MAILTO:steveknpcvegas@yahoo.com
END:VEVENT
BEGIN:VEVENT
DTSTART;VALUE=DATE:20251107
DTEND;VALUE=DATE:20251108
DTSTAMP:20260423T080258
CREATED:20250313T180845Z
LAST-MODIFIED:20250428T221631Z
UID:1224-1762473600-1762559999@npcusanevada.com
SUMMARY:2025 NPC Natural City of Lights
DESCRIPTION:
URL:https://npcusanevada.com/event/2025-npc-natural-city-of-lights/
LOCATION:Alexis Park All Suite Resort\, 375E E Harmon Ave\, Las Vegas\, NV\, 96169
CATEGORIES:NPC
ATTACH;FMTTYPE=image/webp:https://npcusanevada.com/wp-content/uploads/2025/03/2025-NPC-City-of-Lights-Poster.webp
ORGANIZER;CN="Austin Karr":MAILTO:steveknpcvegas@yahoo.com
END:VEVENT
BEGIN:VEVENT
DTSTART;VALUE=DATE:20251025
DTEND;VALUE=DATE:20251026
DTSTAMP:20260423T080258
CREATED:20250313T180836Z
LAST-MODIFIED:20250811T170749Z
UID:1222-1761350400-1761436799@npcusanevada.com
SUMMARY:2025 NPC Mother Lode
DESCRIPTION:
URL:https://npcusanevada.com/event/2025-npc-mother-lode/
LOCATION:Nugget Celebrity Showroom\, 1100 Nugget Ave\, Sparks\, NV\, 89431
CATEGORIES:National Qualifiers,NPC
ATTACH;FMTTYPE=image/webp:https://npcusanevada.com/wp-content/uploads/2025/03/2025-NPC-Mother-Lode.webp
ORGANIZER;CN="Center Podium":MAILTO:events@centerpodium.com
END:VEVENT
BEGIN:VEVENT
DTSTART;VALUE=DATE:20251004
DTEND;VALUE=DATE:20251005
DTSTAMP:20260423T080258
CREATED:20250313T180810Z
LAST-MODIFIED:20250624T210608Z
UID:1219-1759536000-1759622399@npcusanevada.com
SUMMARY:2025 NPC/IFBB Ace of Stage
DESCRIPTION:
URL:https://npcusanevada.com/event/2025-npc-ifbb-ace-of-stage/
LOCATION:Nicholas J Horne Performing Arts Theater\, 3200 E Cheyenne Ave\, North Las Vegas\, 89030\, United States
CATEGORIES:IFBB Pro League,National Qualifiers,NPC
ATTACH;FMTTYPE=image/webp:https://npcusanevada.com/wp-content/uploads/2025/03/2025-NPC-IFBB-Ace-of-Stage-Championships.webp
ORGANIZER;CN="Sampson Productions":MAILTO:patrick@sampsonproductions.com
END:VEVENT
BEGIN:VEVENT
DTSTART;VALUE=DATE:20250823
DTEND;VALUE=DATE:20250824
DTSTAMP:20260423T080258
CREATED:20250313T180631Z
LAST-MODIFIED:20250617T164738Z
UID:1217-1755907200-1755993599@npcusanevada.com
SUMMARY:2025 NPC/IFBB Pro League Sin City
DESCRIPTION:
URL:https://npcusanevada.com/event/2025-npc-ifbb-pro-league-sin-city/
LOCATION:Alexis Park All Suite Resort\, 375E E Harmon Ave\, Las Vegas\, NV\, 96169
CATEGORIES:IFBB Pro League,National Qualifiers,NPC
ATTACH;FMTTYPE=image/webp:https://npcusanevada.com/wp-content/uploads/2025/03/2025-NPC-SIN-CITY-SHOWDOWN-POSTER.webp
ORGANIZER;CN="MuscleContest":MAILTO:Tracey@musclecontest.com
END:VEVENT
BEGIN:VEVENT
DTSTART;VALUE=DATE:20250809
DTEND;VALUE=DATE:20250810
DTSTAMP:20260423T080258
CREATED:20250313T180236Z
LAST-MODIFIED:20250617T163042Z
UID:1215-1754697600-1754783999@npcusanevada.com
SUMMARY:2025 NPC/ IFBB Pro League Tahoe show
DESCRIPTION:
URL:https://npcusanevada.com/event/2025-npc-ifbb-pro-league-tahoe-show/
LOCATION:Bally’s Lake Tahoe Casino Resort\, 55 US-50\, Stateline\, NV\, 89449
CATEGORIES:IFBB Pro League,National Qualifiers,NPC
ATTACH;FMTTYPE=image/webp:https://npcusanevada.com/wp-content/uploads/2025/03/2025-TAHE-SHW.webp
ORGANIZER;CN="Center Podium":MAILTO:events@centerpodium.com
END:VEVENT
BEGIN:VEVENT
DTSTART;VALUE=DATE:20250725
DTEND;VALUE=DATE:20250727
DTSTAMP:20260423T080258
CREATED:20250313T175911Z
LAST-MODIFIED:20250313T175930Z
UID:1213-1753401600-1753574399@npcusanevada.com
SUMMARY:2025 NPC USA Championships
DESCRIPTION:
URL:https://npcusanevada.com/event/2025-npc-usa-championships/
LOCATION:South Pointe Casino & Hotel\, 9777 Las Vegas Blvd South\, Las Vegas\, 89183\, United States
CATEGORIES:NPC
ATTACH;FMTTYPE=image/webp:https://npcusanevada.com/wp-content/uploads/2025/01/2025-NPC-USA-BOdybuilding-Championships.webp
ORGANIZER;CN="MuscleContest":MAILTO:Tracey@musclecontest.com
END:VEVENT
BEGIN:VEVENT
DTSTART;VALUE=DATE:20250712
DTEND;VALUE=DATE:20250713
DTSTAMP:20260423T080258
CREATED:20250313T175744Z
LAST-MODIFIED:20250313T175744Z
UID:1211-1752278400-1752364799@npcusanevada.com
SUMMARY:2025 NPC/IFBB Pro League Patriots Challenge
DESCRIPTION:
URL:https://npcusanevada.com/event/2025-npc-ifbb-pro-league-patriots-challenge/
LOCATION:Alexis Park All Suite Resort\, 375E E Harmon Ave\, Las Vegas\, NV\, 96169
CATEGORIES:IFBB Pro League,National Qualifiers,NPC
ATTACH;FMTTYPE=image/webp:https://npcusanevada.com/wp-content/uploads/2025/01/2025-NPC-Patriots-Challenge.webp
ORGANIZER;CN="MuscleContest":MAILTO:Tracey@musclecontest.com
END:VEVENT
BEGIN:VEVENT
DTSTART;VALUE=DATE:20250614
DTEND;VALUE=DATE:20250615
DTSTAMP:20260423T080258
CREATED:20250313T175557Z
LAST-MODIFIED:20250313T175557Z
UID:1209-1749859200-1749945599@npcusanevada.com
SUMMARY:2025 NPC/IFBB Pro League Nevada State
DESCRIPTION:
URL:https://npcusanevada.com/event/2025-npc-ifbb-pro-league-nevada-state/
LOCATION:Alexis Park All Suite Resort\, 375E E Harmon Ave\, Las Vegas\, NV\, 96169
CATEGORIES:IFBB Pro League,National Qualifiers,NPC
ATTACH;FMTTYPE=image/webp:https://npcusanevada.com/wp-content/uploads/2025/01/2025-NPC-NEvada-State-Championships.webp
ORGANIZER;CN="MuscleContest":MAILTO:Tracey@musclecontest.com
END:VEVENT
BEGIN:VEVENT
DTSTART;VALUE=DATE:20250531
DTEND;VALUE=DATE:20250602
DTSTAMP:20260423T080258
CREATED:20250313T175357Z
LAST-MODIFIED:20250313T180338Z
UID:1207-1748649600-1748822399@npcusanevada.com
SUMMARY:2025 NPC /IFBB Pro League Legion Sport Fest
DESCRIPTION:
URL:https://npcusanevada.com/event/2025-npc-ifbb-pro-league-legion-sport-fest/
LOCATION:Reno-Sparks Convention Center\, 4590 S Virginia St\, Reno\, NV\, 89502\, United States
CATEGORIES:IFBB Pro League,National Qualifiers,NPC
ATTACH;FMTTYPE=image/webp:https://npcusanevada.com/wp-content/uploads/2025/01/2025-NPC-LEgion-Sports-Fest.webp
ORGANIZER;CN="Center Podium":MAILTO:events@centerpodium.com
END:VEVENT
BEGIN:VEVENT
DTSTART;VALUE=DATE:20250510
DTEND;VALUE=DATE:20250511
DTSTAMP:20260423T080258
CREATED:20250109T173113Z
LAST-MODIFIED:20250109T173113Z
UID:1241-1746835200-1746921599@npcusanevada.com
SUMMARY:2025 IFBB Las Vegas Natural Pro
DESCRIPTION:
URL:https://npcusanevada.com/event/2025-ifbb-las-vegas-natural-pro/
LOCATION:South Pointe Casino & Hotel\, 9777 Las Vegas Blvd South\, Las Vegas\, 89183\, United States
CATEGORIES:IFBB Pro League
ATTACH;FMTTYPE=image/webp:https://npcusanevada.com/wp-content/uploads/2025/01/2025-IFBB-Las-Vegas-Natural-Pro.webp
ORGANIZER;CN="Austin Karr":MAILTO:steveknpcvegas@yahoo.com
END:VEVENT
BEGIN:VEVENT
DTSTART;VALUE=DATE:20250510
DTEND;VALUE=DATE:20250511
DTSTAMP:20260423T080258
CREATED:20250109T172817Z
LAST-MODIFIED:20250109T172928Z
UID:1205-1746835200-1746921599@npcusanevada.com
SUMMARY:2025 NPC Las Vegas Natural
DESCRIPTION:
URL:https://npcusanevada.com/event/2025-npc-las-vegas-natural/
LOCATION:South Pointe Casino & Hotel\, 9777 Las Vegas Blvd South\, Las Vegas\, 89183\, United States
CATEGORIES:National Qualifiers,NPC
ATTACH;FMTTYPE=image/webp:https://npcusanevada.com/wp-content/uploads/2025/01/2025-NPC-Las-Vegas-Natural.webp
ORGANIZER;CN="Austin Karr":MAILTO:steveknpcvegas@yahoo.com
END:VEVENT
BEGIN:VEVENT
DTSTART;VALUE=DATE:20250419
DTEND;VALUE=DATE:20250420
DTSTAMP:20260423T080258
CREATED:20241231T174912Z
LAST-MODIFIED:20241231T174912Z
UID:1191-1745020800-1745107199@npcusanevada.com
SUMMARY:2025 NPC Jay Cutler Desert Classic
DESCRIPTION:
URL:https://npcusanevada.com/event/2025-npc-jay-cutler-desert-classic/
LOCATION:South Pointe Casino & Hotel\, 9777 Las Vegas Blvd South\, Las Vegas\, 89183\, United States
CATEGORIES:National Qualifiers,NPC
ATTACH;FMTTYPE=image/webp:https://npcusanevada.com/wp-content/uploads/2024/12/2025-NPC-Jay-Cutler-Desert-Classic.webp
ORGANIZER;CN="Remi Bruyninga":MAILTO:elitefitcenter123@yahoo.com
END:VEVENT
BEGIN:VEVENT
DTSTART;VALUE=DATE:20250329
DTEND;VALUE=DATE:20250330
DTSTAMP:20260423T080258
CREATED:20241231T174603Z
LAST-MODIFIED:20241231T174603Z
UID:1187-1743206400-1743292799@npcusanevada.com
SUMMARY:2025 NPC/IFBB Pro League Sampson Showdown
DESCRIPTION:
URL:https://npcusanevada.com/event/2025-npc-ifbb-pro-league-sampson-showdown/
LOCATION:Nicholas J Horne Performing Arts Theater\, 3200 E Cheyenne Ave\, North Las Vegas\, 89030\, United States
CATEGORIES:IFBB Pro League,National Qualifiers,NPC
ATTACH;FMTTYPE=image/webp:https://npcusanevada.com/wp-content/uploads/2024/12/2025-NPC-IFBB-Sampson-Showdown.webp
ORGANIZER;CN="Sampson Productions":MAILTO:patrick@sampsonproductions.com
END:VEVENT
BEGIN:VEVENT
DTSTART;TZID=America/Los_Angeles:20250322T100000
DTEND;TZID=America/Los_Angeles:20250322T190000
DTSTAMP:20260423T080258
CREATED:20250106T171944Z
LAST-MODIFIED:20250106T171944Z
UID:1197-1742637600-1742670000@npcusanevada.com
SUMMARY:NPC Mega Seminar
DESCRIPTION:
URL:https://npcusanevada.com/event/npc-mega-seminar/
LOCATION:Nugget Celebrity Showroom\, 1100 Nugget Ave\, Sparks\, NV\, 89431
CATEGORIES:Workshops
ATTACH;FMTTYPE=image/webp:https://npcusanevada.com/wp-content/uploads/2025/01/20250322-NPC-Mega-Seminar.webp
ORGANIZER;CN="Center Podium":MAILTO:events@centerpodium.com
END:VEVENT
BEGIN:VEVENT
DTSTART;VALUE=DATE:20250215
DTEND;VALUE=DATE:20250216
DTSTAMP:20260423T080258
CREATED:20241231T173746Z
LAST-MODIFIED:20241231T173746Z
UID:1183-1739577600-1739663999@npcusanevada.com
SUMMARY:2025 NPC Legends Classic
DESCRIPTION:
URL:https://npcusanevada.com/event/2025-npc-legends-classic/
LOCATION:Alexis Park All Suite Resort\, 375E E Harmon Ave\, Las Vegas\, NV\, 96169
CATEGORIES:National Qualifiers,NPC
ATTACH;FMTTYPE=image/webp:https://npcusanevada.com/wp-content/uploads/2024/12/2025-NPC-LEGENDS-CLASSIC.webp
ORGANIZER;CN="MuscleContest":MAILTO:Tracey@musclecontest.com
END:VEVENT
BEGIN:VEVENT
DTSTART;TZID=America/Los_Angeles:20250111T133000
DTEND;TZID=America/Los_Angeles:20250111T160000
DTSTAMP:20260423T080258
CREATED:20250106T173022Z
LAST-MODIFIED:20250107T002605Z
UID:1201-1736602200-1736611200@npcusanevada.com
SUMMARY:NPC Nevada Seminar
DESCRIPTION:
URL:https://npcusanevada.com/event/npc-nevada-seminar/
LOCATION:Raw Fitness Southwest\, 7337 S Rainbow Blvd Suite 100A\, Las Vegas\, NV\, 89139
CATEGORIES:Workshops
ATTACH;FMTTYPE=image/webp:https://npcusanevada.com/wp-content/uploads/2025/01/NPC-USA-NEVADA-SEMINAR-WOMENS-PROS-copy.webp
END:VEVENT
BEGIN:VEVENT
DTSTART;VALUE=DATE:20241116
DTEND;VALUE=DATE:20241117
DTSTAMP:20260423T080258
CREATED:20240930T161936Z
LAST-MODIFIED:20240930T162049Z
UID:1169-1731715200-1731801599@npcusanevada.com
SUMMARY:2024 NPC High Roller Royale
DESCRIPTION:
URL:https://npcusanevada.com/event/2024-npc-high-roller-royale/
LOCATION:Alexis Park All Suite Resort\, 375E E Harmon Ave\, Las Vegas\, NV\, 96169
CATEGORIES:NPC
ATTACH;FMTTYPE=image/webp:https://npcusanevada.com/wp-content/uploads/2024/09/2024-NPC-High-Roller-Royale.webp
END:VEVENT
BEGIN:VEVENT
DTSTART;VALUE=DATE:20241102
DTEND;VALUE=DATE:20241103
DTSTAMP:20260423T080258
CREATED:20231226T181530Z
LAST-MODIFIED:20240830T161844Z
UID:1119-1730505600-1730591999@npcusanevada.com
SUMMARY:2024 NPC Steve Karr Las Vegas Classic
DESCRIPTION:
URL:https://npcusanevada.com/event/2024-npc-steve-karr-las-vegas-classic/
LOCATION:Alexis Park All Suite Resort\, 375E E Harmon Ave\, Las Vegas\, NV\, 96169
CATEGORIES:National Qualifiers,NPC
ATTACH;FMTTYPE=image/webp:https://npcusanevada.com/wp-content/uploads/2023/12/20240809-VC-Poster.webp
ORGANIZER;CN="Austin Karr":MAILTO:steveknpcvegas@yahoo.com
END:VEVENT
BEGIN:VEVENT
DTSTART;VALUE=DATE:20241101
DTEND;VALUE=DATE:20241102
DTSTAMP:20260423T080258
CREATED:20231226T181308Z
LAST-MODIFIED:20240830T161739Z
UID:1117-1730419200-1730505599@npcusanevada.com
SUMMARY:2024 NPC Natural City Of Lights
DESCRIPTION:
URL:https://npcusanevada.com/event/2024-npc-natural-city-of-lights/
LOCATION:Alexis Park All Suite Resort\, 375E E Harmon Ave\, Las Vegas\, NV\, 96169
CATEGORIES:National Qualifiers,NPC
ATTACH;FMTTYPE=image/webp:https://npcusanevada.com/wp-content/uploads/2023/12/20240809-COL-Poster.webp
ORGANIZER;CN="Austin Karr":MAILTO:steveknpcvegas@yahoo.com
END:VEVENT
BEGIN:VEVENT
DTSTART;VALUE=DATE:20240928
DTEND;VALUE=DATE:20240930
DTSTAMP:20260423T080258
CREATED:20231226T181120Z
LAST-MODIFIED:20240501T183319Z
UID:1115-1727481600-1727654399@npcusanevada.com
SUMMARY:2024 NPC/IFBB Pro Legion Sports Fest
DESCRIPTION:
URL:https://npcusanevada.com/event/2024-npc-ifbb-pro-legion-sports-fest/
LOCATION:Reno-Sparks Convention Center\, 4590 S Virginia St\, Reno\, NV\, 89502\, United States
CATEGORIES:IFBB Pro League,National Qualifiers,NPC
ATTACH;FMTTYPE=image/webp:https://npcusanevada.com/wp-content/uploads/2023/12/2024-NPC-IFBB-Pro-Legion-Sports-Fest.webp
ORGANIZER;CN="Center Podium":MAILTO:events@centerpodium.com
END:VEVENT
BEGIN:VEVENT
DTSTART;VALUE=DATE:20240921
DTEND;VALUE=DATE:20240922
DTSTAMP:20260423T080258
CREATED:20231226T180847Z
LAST-MODIFIED:20240329T145331Z
UID:1112-1726876800-1726963199@npcusanevada.com
SUMMARY:2024 NPC Ace Of Stage
DESCRIPTION:
URL:https://npcusanevada.com/event/2024-npc-ace-of-stage/
LOCATION:Nicholas J Horne Performing Arts Theater\, 3200 E Cheyenne Ave\, North Las Vegas\, 89030\, United States
CATEGORIES:National Qualifiers,NPC
ATTACH;FMTTYPE=image/jpeg:https://npcusanevada.com/wp-content/uploads/2023/12/2024-NPC-Ace-of-Stage-Championships.jpg
ORGANIZER;CN="Sampson Productions":MAILTO:patrick@sampsonproductions.com
END:VEVENT
BEGIN:VEVENT
DTSTART;VALUE=DATE:20240824
DTEND;VALUE=DATE:20240825
DTSTAMP:20260423T080258
CREATED:20231226T180344Z
LAST-MODIFIED:20240603T154743Z
UID:1110-1724457600-1724543999@npcusanevada.com
SUMMARY:2024 NPC/IFBB Sin City
DESCRIPTION:
URL:https://npcusanevada.com/event/2024-npc-ifbb-sin-city/
LOCATION:Alexis Park All Suite Resort\, 375E E Harmon Ave\, Las Vegas\, NV\, 96169
CATEGORIES:IFBB Pro League,National Qualifiers,NPC
ATTACH;FMTTYPE=image/webp:https://npcusanevada.com/wp-content/uploads/2023/12/2024-SIN-CITY-SHOWDOWN.webp
ORGANIZER;CN="MuscleContest":MAILTO:Tracey@musclecontest.com
END:VEVENT
BEGIN:VEVENT
DTSTART;VALUE=DATE:20240810
DTEND;VALUE=DATE:20240811
DTSTAMP:20260423T080258
CREATED:20231226T180156Z
LAST-MODIFIED:20240501T183036Z
UID:1108-1723248000-1723334399@npcusanevada.com
SUMMARY:2024 NPC/IFBB Pro Tahoe Show
DESCRIPTION:
URL:https://npcusanevada.com/event/2024-npc-ifbb-pro-tahoe-show/
LOCATION:Bally’s Lake Tahoe Casino Resort\, 55 US-50\, Stateline\, NV\, 89449
CATEGORIES:IFBB Pro League,National Qualifiers,NPC
ATTACH;FMTTYPE=image/webp:https://npcusanevada.com/wp-content/uploads/2023/12/2024-NPC-Tahoe-Show.webp
ORGANIZER;CN="Center Podium":MAILTO:events@centerpodium.com
END:VEVENT
END:VCALENDAR